BEGIN:VCALENDAR
VERSION:2.0
PRODID:-//ChamberMaster//Event Calendar 2.0//EN
METHOD:PUBLISH
X-PUBLISHED-TTL:P3D
REFRESH-INTERVAL:P3D
CALSCALE:GREGORIAN
BEGIN:VEVENT
DTSTART;VALUE=DATE:20170510
DTEND;VALUE=DATE:20170715
TRANSP:TRANSPARENT
X-MICROSOFT-CDO-ALLDAYEVENT:TRUE
SUMMARY:Effingham County Compensation & Benefits Survey 2017
DESCRIPTION:Hiring and keeping good employees is essential to the profitability of your business\, especially in today's economy. To achieve this goal\, you must consider your overall employee compensation plan - not just your pay scale\, but your benefits program as well! \n\n\n\nThe Effingham County Compensation and Benefits survey covers a wide range of jobs in retail\, service\, manufacturing\, distribution\, construction\, medical\, governmental agencies\, non-profit organizations and school districts. This survey includes information from employers of all sizes\, ranging from start-ups to multi-national corporations. We have been providing this valuable resource to area businesses and community since 2002.\n\n\n\nThe results of the compensation and benefits surveys will assist you to:\n\n	Determine your position in the local employment market\n	Attract and retain employees with competitive compensation and benefits\n	Make informed decisions about pay practices and change in base pay policies\n	See trends in health insurance costs\n\nThe most comprehensive source of local Compensation and Benefit data available!\n\n\n\nComplete the registration form and return it to the Chamber office before July 14th!\n\n\n\nParticipating organizations will be contacted by Bushue Human Resources\, Inc. to complete a questionnaire in order to compile the wage and benefit information for the survey.
X-ALT-DESC;FMTTYPE=text/html:Hiring and keeping good employees is essential to the profitability of your business\, especially in today&#39\;s economy. To achieve this goal\, you must consider your overall employee compensation plan - not just your pay scale\, but your benefits program as well!&nbsp\;<br />\n<br />\nThe Effingham County Compensation and Benefits survey covers a wide range of jobs in retail\, service\, manufacturing\, distribution\, construction\, medical\, governmental agencies\, non-profit organizations and school districts. This survey includes information from employers of all sizes\, ranging from start-ups to multi-national corporations. We have been providing this valuable resource to area businesses and community since 2002.<br />\n<br />\n<strong>The results of the compensation and benefits surveys will assist you to:</strong>\n<ul>\n	<li>Determine your position in the local employment market</li>\n	<li>Attract and retain employees with competitive compensation and benefits</li>\n	<li>Make informed decisions about pay practices and change in base pay policies</li>\n	<li>See trends in health insurance costs</li>\n</ul>\n<strong>The most comprehensive source of local Compensation and Benefit data available!</strong><br />\n<br />\nComplete the <a href="https://chambermaster.blob.core.windows.net/userfiles/UserFiles/chambers/1548/File/2017CompensationandBenefitsSurvey-update.pdf">registration form</a>&nbsp\;and return it to the Chamber office before July 14th!<br />\n<br />\nParticipating organizations will be contacted by Bushue Human Resources\, Inc. to complete a questionnaire in order to compile the wage and benefit information for the survey.
LOCATION:
UID:e.1548.5450
SEQUENCE:3
DTSTAMP:20260420T121501Z
URL:http://business.effinghamcountychamber.com/events/details/effingham-county-compensation-benefits-survey-2017-5450
END:VEVENT

END:VCALENDAR
