BEGIN:VCALENDAR
VERSION:2.0
PRODID:-//ChamberMaster//Event Calendar 2.0//EN
METHOD:PUBLISH
X-PUBLISHED-TTL:P3D
REFRESH-INTERVAL:P3D
CALSCALE:GREGORIAN
BEGIN:VEVENT
DTSTART:20260117T230000Z
DTEND:20260118T040000Z
X-MICROSOFT-CDO-ALLDAYEVENT:FALSE
SUMMARY:Effingham County Chamber Annual Gala - 2026
DESCRIPTION:Inside Our 2026 Saturday Night Fever Gala\n\n  Carrsan Carroll Creative\n\n  Ed Baumgarten Photography\n\n\n\nDust off your dancing shoes and break out your best disco threads   the Effingham County Chamber is turning up the groove for this year's Annual Gala: Saturday Night Fever!\n\nStep into a night where the lights shine bright\, the dance floor calls your name\, and the spirit of the '70s takes center stage. Celebrate the rhythm of business success as we honor the Chamber's milestones and the shining stars of our community.\n\nWe'll recognize the Excellence in Business Award recipients (McMahon Meats & Northside Ford-Lincoln)\, along with our Ambassador of the Year\, Volunteer of the Year\, and Citizen of the Year (all three a surprise!) spotlighting those who keep Effingham County moving to the beat of progress.\n\nEnjoy delicious dinner stations\, groove-worthy tunes\, and signature cocktails that'll have you feeling the disco fever all night long. Whether you're channeling your inner John Travolta or rocking your favorite retro glam\, get ready to sparkle under the disco ball!\n\n\n\nTimeline:\n\n5p | Cocktail Hour with Koerner Distributor\, Inc.\n\n6p | Welcome & Awards: Volunteer of the Year & Citizen of the Year\n\n6:30p | Dinner Stations\n\n7p | Awards: Ambassador of the Year & Excellence in Business\n\n7:45p | Dessert Stations\n\n8-10p | After Party with Rios Mios
X-ALT-DESC;FMTTYPE=text/html:<div apple="" color="" color:="" data-block="true" data-editor="24l02" data-offset-key="coj11-0-0" font-size:="" segoe="" style="font-family: -apple-system\, BlinkMacSystemFont\, " ui="" white-space-collapse:="">\n<div class="_1mf _1mj" data-offset-key="coj11-0-0" style="position: relative\; direction: ltr\; font-family: inherit\;">\n<p data-end="771" data-start="723">&nbsp\;</p>\n\n<p data-end="540" data-start="283" style="box-sizing: border-box\; margin-top: 0px\; margin-bottom: 1rem\; color: rgb(4\, 61\, 93)\; font-family: sofia-pro\, sans-serif\; font-size: 16px\;"><span style="font-size:18px\;"><strong>Inside Our 2026 Saturday Night Fever Gala</strong></span><br />\n&#128073\;&nbsp\;<u><em><strong><a href="https://www.facebook.com/media/set/?set=a.1329643839197714&amp\;type=3">Carrsan Carroll Creative</a></strong></em></u><br />\n&#128073\;&nbsp\;<u><em><strong><a href="https://www.facebook.com/media/set/?set=a.1319805413514890&amp\;type=3">Ed Baumgarten Photography</a></strong></em></u><br />\n<br />\nDust off your dancing shoes and break out your best disco threads &mdash\; the Effingham County Chamber is turning up the groove for this year&rsquo\;s Annual Gala:&nbsp\;<em data-end="458" data-start="436" style="box-sizing: border-box\;"><span style="box-sizing: border-box\; font-weight: 700\;">Saturday Night Fever</span>!</em></p>\n\n<p data-end="790" data-start="542" style="box-sizing: border-box\; margin-top: 0px\; margin-bottom: 1rem\; color: rgb(4\, 61\, 93)\; font-family: sofia-pro\, sans-serif\; font-size: 16px\;">Step into a night where the lights shine bright\, the dance floor calls your name\, and the spirit of the &lsquo\;70s takes center stage. Celebrate the rhythm of business success as we honor the Chamber&rsquo\;s milestones and the shining stars of our community.</p>\n\n<p data-end="1033" data-start="792" style="box-sizing: border-box\; margin-top: 0px\; margin-bottom: 1rem\; color: rgb(4\, 61\, 93)\; font-family: sofia-pro\, sans-serif\; font-size: 16px\;">We&rsquo\;ll recognize the Excellence in Business Award recipients (<a href="https://mcmahonmeats.com/" rel="noopener" role="link" style="box-sizing: border-box\; color: rgb(178\, 210\, 53)\; background-color: transparent\; transition: 0.5s\;" target="_blank">McMahon Meats</a>&nbsp\;&amp\;&nbsp\;<a href="https://www.northsidefordlincoln.com/" rel="noopener" role="link" style="box-sizing: border-box\; color: rgb(178\, 210\, 53)\; background-color: transparent\; transition: 0.5s\;" target="_blank">Northside Ford-Lincoln</a>)\, along with our Ambassador of the Year\, Volunteer of the Year\, and Citizen of the Year (all three a surprise!)&mdash\;spotlighting those who keep Effingham County moving to the beat of progress.</p>\n\n<p data-end="1295" data-start="1035" style="box-sizing: border-box\; margin-top: 0px\; margin-bottom: 1rem\; color: rgb(4\, 61\, 93)\; font-family: sofia-pro\, sans-serif\; font-size: 16px\;">Enjoy delicious dinner stations\, groove-worthy tunes\, and signature cocktails that&rsquo\;ll have you feeling the disco fever all night long. Whether you&rsquo\;re channeling your inner John Travolta or rocking your favorite retro glam\, get ready to sparkle under the disco ball!<br />\n<br />\n<span style="box-sizing: border-box\; font-weight: 700\; color: rgb(4\, 61\, 93)\; font-family: sofia-pro\, sans-serif\; font-size: 16px\;">Timeline:</span><br style="box-sizing: border-box\;" />\n<span style="color: rgb(4\, 61\, 93)\; font-family: sofia-pro\, sans-serif\; font-size: 16px\;">5p | Cocktail Hour with Koerner Distributor\, Inc.</span><br style="box-sizing: border-box\; color: rgb(4\, 61\, 93)\; font-family: sofia-pro\, sans-serif\; font-size: 16px\;" />\n<span style="color: rgb(4\, 61\, 93)\; font-family: sofia-pro\, sans-serif\; font-size: 16px\;">6p | Welcome &amp\; Awards: Volunteer of the Year &amp\; Citizen of the Year</span><br style="box-sizing: border-box\; color: rgb(4\, 61\, 93)\; font-family: sofia-pro\, sans-serif\; font-size: 16px\;" />\n<span style="color: rgb(4\, 61\, 93)\; font-family: sofia-pro\, sans-serif\; font-size: 16px\;">6:30p | Dinner Stations</span><br style="box-sizing: border-box\; color: rgb(4\, 61\, 93)\; font-family: sofia-pro\, sans-serif\; font-size: 16px\;" />\n<span style="color: rgb(4\, 61\, 93)\; font-family: sofia-pro\, sans-serif\; font-size: 16px\;">7p | Awards: Ambassador of the Year &amp\; Excellence in Business</span><br style="box-sizing: border-box\; color: rgb(4\, 61\, 93)\; font-family: sofia-pro\, sans-serif\; font-size: 16px\;" />\n<span style="color: rgb(4\, 61\, 93)\; font-family: sofia-pro\, sans-serif\; font-size: 16px\;">7:45p | Dessert Stations</span><br style="box-sizing: border-box\; color: rgb(4\, 61\, 93)\; font-family: sofia-pro\, sans-serif\; font-size: 16px\;" />\n<span style="color: rgb(4\, 61\, 93)\; font-family: sofia-pro\, sans-serif\; font-size: 16px\;">8-10p | After Party with Rios Mios</span></p>\n</div>\n</div>\n
LOCATION:Keller Convention Center 1202 N. Keller Dr. Effingham\, IL 62401
UID:e.1548.11296
SEQUENCE:3
DTSTAMP:20260424T143705Z
URL:http://business.effinghamcountychamber.com/events/details/effingham-county-chamber-annual-gala-2026-11296
END:VEVENT

END:VCALENDAR
