BEGIN:VCALENDAR
VERSION:2.0
PRODID:-//ChamberMaster//Event Calendar 2.0//EN
METHOD:PUBLISH
X-PUBLISHED-TTL:P3D
REFRESH-INTERVAL:P3D
CALSCALE:GREGORIAN
BEGIN:VEVENT
DTSTART;VALUE=DATE:20170528
DTEND;VALUE=DATE:20170529
TRANSP:TRANSPARENT
X-MICROSOFT-CDO-ALLDAYEVENT:TRUE
SUMMARY:Downtown Trick or Treat
DESCRIPTION:More details to come!
X-ALT-DESC;FMTTYPE=text/html:More details to come!
LOCATION:
UID:e.1548.5300
SEQUENCE:3
DTSTAMP:20260421T004650Z
URL:http://business.effinghamcountychamber.com/events/details/downtown-trick-or-treat-5300
END:VEVENT

END:VCALENDAR
