BEGIN:VCALENDAR
VERSION:2.0
PRODID:-//ChamberMaster//Event Calendar 2.0//EN
METHOD:PUBLISH
X-PUBLISHED-TTL:P3D
REFRESH-INTERVAL:P3D
CALSCALE:GREGORIAN
BEGIN:VEVENT
DTSTART:20150724T140000Z
DTEND:20150725T220000Z
X-MICROSOFT-CDO-ALLDAYEVENT:FALSE
SUMMARY:Downtown Sidewalk Sales
DESCRIPTION:Don't Miss the Downtown Effingham Sidewalk Sales Friday & Saturday\, July 24 & 25 starting at 9 a.m. Hosted by the Effingham Daily News\, in conjunction with the Effing-Ham Jam Fest and KCBS State Championship BBQ Cookoff. Huge sales and discounts both days by participating downtown businesses.
X-ALT-DESC;FMTTYPE=text/html:Don&#39\;t Miss the Downtown Effingham Sidewalk Sales Friday &amp\; Saturday\, July 24 &amp\; 25 starting at 9 a.m. Hosted by the Effingham Daily News\, in conjunction with the Effing-Ham Jam Fest and KCBS State Championship BBQ Cookoff. Huge sales and discounts both days by participating downtown businesses.
LOCATION:Several Downtown Effingham Locations
UID:e.1548.1793
SEQUENCE:3
DTSTAMP:20260424T073357Z
URL:http://business.effinghamcountychamber.com/events/details/downtown-sidewalk-sales-07-24-2015-1793
END:VEVENT

END:VCALENDAR
