BEGIN:VCALENDAR
VERSION:2.0
PRODID:-//ChamberMaster//Event Calendar 2.0//EN
METHOD:PUBLISH
X-PUBLISHED-TTL:P3D
REFRESH-INTERVAL:P3D
CALSCALE:GREGORIAN
BEGIN:VEVENT
DTSTART:20170315T170000Z
DTEND:20170315T180000Z
X-MICROSOFT-CDO-ALLDAYEVENT:FALSE
SUMMARY:Dieterich Business Assocation Lunch & Learn
DESCRIPTION:Dieterich Business Association\n\nLUNCH AND LEARN\n\nPresents\n\n\n\n"Controlling the Blood Sugar Rollercoaster"\n\n Facilitated by:  Maria Tegeler\, Wellness Advocate\n\n\n\nMaria Tegeler has been a Wellness Advocate with doTERRA for almost 3 years and is currently working towards her certification in Health Coaching.  She and her husband have 5 children and is very passionate about educating her family and community on natural health.  She believes making SMALL changes in our health and habits can make HUGE impacts on our overall health.\n\n\n\nWhat is Health Coaching? \n\nHealth Coaching provides the right system\, the right support and the right accountability to help you transform your health and body for good.\n\n\n\nWho Benefits from this work?\n\nHealth coaching is the perfect solution for you if what you've been doing is no longer working and you're looking for something greater to get you where you want to go.
X-ALT-DESC;FMTTYPE=text/html:<strong><span style="font-size:16px\;">Dieterich Business Association<br />\nLUNCH AND LEARN<br />\nPresents</span></strong><br />\n<br />\n<span style="font-size:18px\;"><em><span style="font-size:20px\;"><strong>&quot\;Controlling the Blood Sugar Rollercoaster&quot\;</strong></span></em><br />\n<span style="font-size:20px\;">&nbsp\;Facilitated by: &nbsp\;Maria Tegeler\, Wellness Advocate</span></span><br />\n<br />\nMaria Tegeler has been a Wellness Advocate with doTERRA for almost 3 years and is currently working towards her certification in Health Coaching. &nbsp\;She and her husband have 5 children and is very passionate about educating her family and community on natural health. &nbsp\;She believes making SMALL changes in our health and habits can make HUGE impacts on our overall health.<br />\n<br />\n<span style="font-size:16px\;">What is Health Coaching?</span>&nbsp\;<br />\n<span style="font-size:14px\;">Health Coaching provides the right system\, the right support and the right accountability to help you transform your health and body for good.</span><br />\n<br />\n<span style="font-size:16px\;">Who Benefits from this work?<br />\n<span style="font-size:14px\;">Health coaching is the perfect solution for you if what you&#39\;ve been doing is no longer working and you&#39\;re looking for something greater to get you where you want to go.</span></span>
LOCATION:Immaculate Conception Parish Hall 303 E Section Street\, Dieterich
UID:e.1548.5043
SEQUENCE:3
DTSTAMP:20260424T003656Z
URL:http://business.effinghamcountychamber.com/events/details/dieterich-business-assocation-lunch-learn-5043
END:VEVENT

END:VCALENDAR
