BEGIN:VCALENDAR
VERSION:2.0
PRODID:-//ChamberMaster//Event Calendar 2.0//EN
METHOD:PUBLISH
X-PUBLISHED-TTL:P3D
REFRESH-INTERVAL:P3D
CALSCALE:GREGORIAN
BEGIN:VEVENT
DTSTART:20260309T140000Z
DTEND:20260309T150000Z
X-MICROSOFT-CDO-ALLDAYEVENT:FALSE
SUMMARY:DEBG Committee Meeting - March 2026
DESCRIPTION:Downtown Effingham Business Group members are invited to join us for our March meeting as we discuss upcoming promotions\, review recent events\, and continue planning for the busy spring season downtown.\n\nAgenda highlights include updates on the Golden Ticket promotion and Citizens Police Academy\, a quick recap of the Love Local event\, and planning for several upcoming downtown events. We'll review details for Spring into Downtown (March 20)\, Bunny Bash (March 28)\, and the Mother's Day Market & CEO Pop-Up (May 9)\, including sponsorship updates\, event activities\, and volunteer needs.\n\nWe'll also discuss Bunny Bash planning\, including event activities such as egg hunts\, photos with the Easter Bunny\, and other family-friendly attractions.\n\nYour input helps shape these events and the continued success of Downtown Effingham\, so we hope you can join the conversation.
X-ALT-DESC;FMTTYPE=text/html:<p data-end="380" data-start="274">Downtown Effingham Business Group members are invited to join us for our March meeting as we discuss upcoming promotions\, review recent events\, and continue planning for the busy spring season downtown.</p>\n\n<p data-end="920" data-start="524">Agenda highlights include updates on the Golden Ticket promotion and Citizens Police Academy\, a quick recap of the Love Local event\, and planning for several upcoming downtown events. We&rsquo\;ll review details for <strong data-end="768" data-start="733">Spring into Downtown (March 20)</strong>\, <strong data-end="795" data-start="770">Bunny Bash (March 28)</strong>\, and the <strong data-end="849" data-start="805">Mother&rsquo\;s Day Market &amp\; CEO Pop-Up (May 9)</strong>\, including sponsorship updates\, event activities\, and volunteer needs.</p>\n\n<p data-end="1076" data-start="922">We&rsquo\;ll also discuss Bunny Bash planning\, including event activities such as egg hunts\, photos with the Easter Bunny\, and other family-friendly attractions.</p>\n\n<p data-end="1204" data-start="1078">Your input helps shape these events and the continued success of Downtown Effingham\, so we hope you can join the conversation.</p>\n
LOCATION:Washington Savings Bank (downtown)
UID:e.1548.11380
SEQUENCE:3
DTSTAMP:20260423T183513Z
URL:http://business.effinghamcountychamber.com/events/details/debg-committee-meeting-march-2026-11380
END:VEVENT

END:VCALENDAR
