BEGIN:VCALENDAR
VERSION:2.0
PRODID:-//ChamberMaster//Event Calendar 2.0//EN
METHOD:PUBLISH
X-PUBLISHED-TTL:P3D
REFRESH-INTERVAL:P3D
CALSCALE:GREGORIAN
BEGIN:VEVENT
DTSTART:20170316T150000Z
DTEND:20170316T160000Z
X-MICROSOFT-CDO-ALLDAYEVENT:FALSE
SUMMARY:Daytime Book Discussion - The Secret Scripture
DESCRIPTION:Daytime Book Discussion The Secret Scripture by Sebastian Barry Thursday\, May 16 10 a.m. Luttrell Room Get ready for St Patrick's Day with this award winning novel by Ireland's Barry Sebastian. Nearing her one-hundredth birthday\, Roseanne McNulty faces an uncertain future\, as the Roscommon Regional Mental hospital where she's spent the best part of her adult life prepares for closure. See our Circulation Desk to pick up a copy of the book. Registration Required.
X-ALT-DESC;FMTTYPE=text/html:Daytime Book Discussion The Secret Scripture by Sebastian Barry Thursday\, May 16 10 a.m. Luttrell Room Get ready for St Patrick&rsquo\;s Day with this award winning novel by Ireland&rsquo\;s Barry Sebastian. Nearing her one-hundredth birthday\, Roseanne McNulty faces an uncertain future\, as the Roscommon Regional Mental hospital where she&#39\;s spent the best part of her adult life prepares for closure. See our Circulation Desk to pick up a copy of the book. Registration Required.
LOCATION:Effingham Public Library - Luttrell Room
UID:e.1548.5017
SEQUENCE:3
DTSTAMP:20260423T020539Z
URL:http://business.effinghamcountychamber.com/events/details/daytime-book-discussion-the-secret-scripture-5017
END:VEVENT

END:VCALENDAR
