BEGIN:VCALENDAR
VERSION:2.0
PRODID:-//ChamberMaster//Event Calendar 2.0//EN
METHOD:PUBLISH
X-PUBLISHED-TTL:P3D
REFRESH-INTERVAL:P3D
CALSCALE:GREGORIAN
BEGIN:VEVENT
DTSTART:20170119T160000Z
DTEND:20170119T170000Z
X-MICROSOFT-CDO-ALLDAYEVENT:FALSE
SUMMARY:Daytime Book Discussion
DESCRIPTION:Daytime Book Discussion "Lilac Girls" by Martha Hall Kelly on Thursday\, January 19 at 10 a.m. in the Luttrell Room.  \n\n\n\nOn a September day in Manhattan in 1939\, twenty-something Caroline Ferriday is consumed by her efforts to secure the perfect boutonniere for an important French diplomat and resisting the romantic advances of a married actor. Meanwhile across the Atlantic\, Kasia Kuzmerick\, a Polish Catholic teenager\, is nervously anticipating the changes that are sure to come since Germany has declared war on Poland. See our Circulation Desk to pick up a copy of the book. Registration Required.
X-ALT-DESC;FMTTYPE=text/html:Daytime Book Discussion &quot\;Lilac Girls&quot\; by Martha Hall Kelly on Thursday\, January 19 at 10 a.m. in the Luttrell Room. &nbsp\;<br />\n<br />\nOn a September day in Manhattan in 1939\, twenty-something Caroline Ferriday is consumed by her efforts to secure the perfect boutonniere for an important French diplomat and resisting the romantic advances of a married actor. Meanwhile across the Atlantic\, Kasia Kuzmerick\, a Polish Catholic teenager\, is nervously anticipating the changes that are sure to come since Germany has declared war on Poland. See our Circulation Desk to pick up a copy of the book. Registration Required.
LOCATION:Effingham Public Library - Luttrell Room 200 N Third St\, Effingham
UID:e.1548.4727
SEQUENCE:3
DTSTAMP:20260422T045858Z
URL:http://business.effinghamcountychamber.com/events/details/daytime-book-discussion-4727
END:VEVENT

END:VCALENDAR
