BEGIN:VCALENDAR
VERSION:2.0
PRODID:-//ChamberMaster//Event Calendar 2.0//EN
METHOD:PUBLISH
X-PUBLISHED-TTL:P3D
REFRESH-INTERVAL:P3D
CALSCALE:GREGORIAN
BEGIN:VEVENT
DTSTART:20170311T160000Z
DTEND:20170311T180000Z
X-MICROSOFT-CDO-ALLDAYEVENT:FALSE
SUMMARY:Craft Class with Nancy Fearday
DESCRIPTION:Join Nancy Fearday for a card class. She will share coloring and paper-piecing techniques and an easel card
X-ALT-DESC;FMTTYPE=text/html:Join Nancy Fearday for a card class. She will share coloring and paper-piecing techniques and an easel card
LOCATION:Effingham Public Library - Luttrell Room
UID:e.1548.5016
SEQUENCE:3
DTSTAMP:20260422T230500Z
URL:http://business.effinghamcountychamber.com/events/details/craft-class-with-nancy-fearday-5016
END:VEVENT

END:VCALENDAR
