BEGIN:VCALENDAR
VERSION:2.0
PRODID:-//ChamberMaster//Event Calendar 2.0//EN
METHOD:PUBLISH
X-PUBLISHED-TTL:P3D
REFRESH-INTERVAL:P3D
CALSCALE:GREGORIAN
BEGIN:VEVENT
DTSTART:20170325T190000Z
DTEND:20170325T203000Z
X-MICROSOFT-CDO-ALLDAYEVENT:FALSE
SUMMARY:Chess Class
DESCRIPTION:All ages and no knowledge of chess is necessary. The class will assume the student has no knowledge of chess. We will start with a basic overview and how the pieces move. Class will last about 90 minutes.
X-ALT-DESC;FMTTYPE=text/html:All ages and no knowledge of chess is necessary. The class will assume the student has no knowledge of chess. We will start with a basic overview and how the pieces move. Class will last about 90 minutes.
LOCATION:Effingham Public Library - Workman Room
UID:e.1548.5022
SEQUENCE:3
DTSTAMP:20260423T051453Z
URL:http://business.effinghamcountychamber.com/events/details/chess-class-5022
END:VEVENT

END:VCALENDAR
