BEGIN:VCALENDAR
VERSION:2.0
PRODID:-//ChamberMaster//Event Calendar 2.0//EN
METHOD:PUBLISH
X-PUBLISHED-TTL:P3D
REFRESH-INTERVAL:P3D
CALSCALE:GREGORIAN
BEGIN:VEVENT
DTSTART:20260515T180000Z
DTEND:20260515T230000Z
X-MICROSOFT-CDO-ALLDAYEVENT:FALSE
SUMMARY:Chamber Spring Golf Outing 2026
DESCRIPTION:Grab your clubs and clear your calendar. The Chamber's 59th Annual Spring Golf Outing is back at the Effingham Country Club and it's shaping up to be another full day of fresh air\, friendly competition\, and Chamber connection.\n\nWe'll kick things off with a shotgun start and spend the day on the course with fellow Chamber members\, clients\, coworkers\, and friends. Whether you're playing to win or just here for the networking and laughs\, this outing delivers the perfect mix of business and fun.\n\nThis is one of the Chamber's longest-running traditions for a reason. It's relaxed\, it's social\, and it's a great way to build relationships outside the office walls.\n\nPut together your foursome\, invite a client\, or register solo and we'll pair you up. Either way\, you'll leave with stronger connections and maybe a better short game.\n\n \n\nPhoto & Video Disclaimer\n\nEffingham County Chamber (Chamber) reserves the right to use any photograph/video taken at any event sponsored by the Chamber\, without the expressed written permission of those included within the photograph/video. The Chamber may use the photograph/video in publications or other media material produced\, used\, or contracted by the Chamber\, including but not limited to brochures\, invitations\, books\, newspapers\, magazines\, television\, websites\, etc. If you do not wish to be photographed/video\, please inform the Chamber.\n\n \n\nAny person or organization not affiliated with Chamber may not use\, copy\, alter\, or modify Chamber photographs\, graphics\, videography\, or other similar reproductions and recordings without the advance written permission of an authorized designee from Chamber.
X-ALT-DESC;FMTTYPE=text/html:<p data-end="292" data-start="66">Grab your clubs and clear your calendar. The Chamber&rsquo\;s 59th Annual Spring Golf Outing is back at the Effingham Country Club and it&rsquo\;s shaping up to be another full day of fresh air\, friendly competition\, and Chamber connection.</p>\n\n<p data-end="562" data-start="294">We&rsquo\;ll kick things off with a shotgun start and spend the day on the course with fellow Chamber members\, clients\, coworkers\, and friends. Whether you&rsquo\;re playing to win or just here for the networking and laughs\, this outing delivers the perfect mix of business and fun.</p>\n\n<p data-end="888" data-start="722">This is one of the Chamber&rsquo\;s longest-running traditions for a reason. It&rsquo\;s relaxed\, it&rsquo\;s social\, and it&rsquo\;s a great way to build relationships outside the office walls.</p>\n\n<p data-end="1056" data-start="890">Put together your foursome\, invite a client\, or register solo and we&rsquo\;ll pair you up. Either way\, you&rsquo\;ll leave with stronger connections and maybe a better short game.</p>\n\n<p style="box-sizing: border-box\; margin-top: 0px\; margin-bottom: 1rem\; color: rgb(4\, 61\, 93)\; font-family: sofia-pro\, sans-serif\; font-size: 16px\;">&nbsp\;</p>\n\n<p class="x_elementToProof" font-size:="" helvetica="" segoe="" style="margin-top: 0px\; margin-bottom: 0px\; color: rgb(36\, 36\, 36)\; font-family: " ui="" web="" west=""><span style="border: 0px\; font-style: inherit\; font-variant: inherit\; font-weight: inherit\; font-stretch: inherit\; font-size: 11px\; line-height: inherit\; font-family: Calibri\, sans-serif\; font-optical-sizing: inherit\; font-kerning: inherit\; font-feature-settings: inherit\; font-variation-settings: inherit\; margin: 0px\; padding: 0px\; vertical-align: baseline\;"><b><i><u>Photo &amp\; Video Disclaimer</u></i></b></span></p>\n\n<p font-size:="" helvetica="" line-height:="" segoe="" style="margin: 0in\; color: rgb(36\, 36\, 36)\; font-family: " ui="" web="" west=""><span style="border: 0px\; font-style: inherit\; font-variant: inherit\; font-stretch: inherit\; font-size: 11px\; line-height: inherit\; font-family: Calibri\, sans-serif\; font-optical-sizing: inherit\; font-kerning: inherit\; font-feature-settings: inherit\; font-variation-settings: inherit\; margin: 0px\; padding: 0px\; vertical-align: baseline\;"><i>Effingham County Chamber (Chamber) reserves the right to use any photograph/video taken at any event sponsored by the Chamber\, without the expressed written permission of those included within the photograph/video. The Chamber may use the photograph/video in publications or other media material produced\, used\, or contracted by the Chamber\, including but not limited to brochures\, invitations\, books\, newspapers\, magazines\, television\, websites\, etc. If you do not wish to be photographed/video\, please inform the Chamber.</i></span></p>\n\n<p font-size:="" helvetica="" line-height:="" segoe="" style="margin: 0in\; color: rgb(36\, 36\, 36)\; font-family: " ui="" web="" west=""><span style="border: 0px\; font-style: inherit\; font-variant: inherit\; font-stretch: inherit\; font-size: 11px\; line-height: inherit\; font-family: Calibri\, sans-serif\; font-optical-sizing: inherit\; font-kerning: inherit\; font-feature-settings: inherit\; font-variation-settings: inherit\; margin: 0px\; padding: 0px\; vertical-align: baseline\;"><i>&nbsp\;</i></span></p>\n\n<p class="x_elementToProof" font-size:="" helvetica="" line-height:="" segoe="" style="margin: 0in\; color: rgb(36\, 36\, 36)\; font-family: " ui="" web="" west=""><span style="border: 0px\; font-style: inherit\; font-variant: inherit\; font-stretch: inherit\; font-size: 11px\; line-height: inherit\; font-family: Calibri\, sans-serif\; font-optical-sizing: inherit\; font-kerning: inherit\; font-feature-settings: inherit\; font-variation-settings: inherit\; margin: 0px\; padding: 0px\; vertical-align: baseline\;"><i>Any person or organization not affiliated with Chamber may not use\, copy\, alter\, or modify Chamber photographs\, graphics\, videography\, or other similar reproductions and recordings without the advance written permission of an authorized designee from Chamber.</i></span></p>\n
LOCATION:Effingham Country Club 2400 Country Club Dr.\, Effingham
UID:e.1548.11369
SEQUENCE:3
DTSTAMP:20260423T151022Z
URL:http://business.effinghamcountychamber.com/events/details/chamber-spring-golf-outing-2026-11369
END:VEVENT

END:VCALENDAR
