BEGIN:VCALENDAR
VERSION:2.0
PRODID:-//ChamberMaster//Event Calendar 2.0//EN
METHOD:PUBLISH
X-PUBLISHED-TTL:P3D
REFRESH-INTERVAL:P3D
CALSCALE:GREGORIAN
BEGIN:VEVENT
DTSTART:20260508T123000Z
DTEND:20260508T140000Z
X-MICROSOFT-CDO-ALLDAYEVENT:FALSE
SUMMARY:Chamber Scholarship Breakfast 2026
DESCRIPTION:Start the day with purpose and pride as we celebrate the bright minds building the future of Effingham County!\n\nThe Effingham County Chamber Scholarship Breakfast brings together community members\, business leaders\, supporters\, and scholarship recipients to recognize the achievements of local students and adult learners pursuing secondary education. Through the Chamber Community Scholarship Program\, we award $1\,000 scholarships to graduating high school seniors and adult learners advancing their education\, including those entering healthcare\, childcare\, vocational trades\, and other fields of study.\n\nJoin us for a morning of inspiration and community connection as we honor the hard work\, academic excellence\, and community engagement of our scholarship recipients. Hear their stories\, support their dreams\, and connect with fellow Chamber members who are investing in the region's future.\n\nTogether we invest in education\, community\, and a stronger future for Effingham County.\n\nLearn more about the Chamber Scholarship Program here.\n\n \n\nPhoto & Video Disclaimer\n\nEffingham County Chamber (Chamber) reserves the right to use any photograph/video taken at any event sponsored by the Chamber\, without the expressed written permission of those included within the photograph/video. The Chamber may use the photograph/video in publications or other media material produced\, used\, or contracted by the Chamber\, including but not limited to brochures\, invitations\, books\, newspapers\, magazines\, television\, websites\, etc. If you do not wish to be photographed/video\, please inform the Chamber.\n\n \n\nAny person or organization not affiliated with Chamber may not use\, copy\, alter\, or modify Chamber photographs\, graphics\, videography\, or other similar reproductions and recordings without the advance written permission of an authorized designee from Chamber.
X-ALT-DESC;FMTTYPE=text/html:<div data-olk-copy-source="MailCompose" style="margin-top: 1em\; margin-bottom: 1em\; font-family: Aptos\, Aptos_EmbeddedFont\, Aptos_MSFontService\, Calibri\, Helvetica\, sans-serif\; font-size: 12pt\; color: rgb(0\, 0\, 0)\;">\n<div data-olk-copy-source="MailCompose" style="margin-top: 1em\; margin-bottom: 1em\; font-family: Aptos\, Aptos_EmbeddedFont\, Aptos_MSFontService\, Calibri\, Helvetica\, sans-serif\; font-size: 11pt\; color: rgb(0\, 0\, 0)\;">\n<div data-olk-copy-source="MailCompose" style="margin-top: 1em\; margin-bottom: 1em\; font-family: Aptos\, Aptos_EmbeddedFont\, Aptos_MSFontService\, Calibri\, Helvetica\, sans-serif\; font-size: 12pt\; color: rgb(0\, 0\, 0)\;">\n<p data-end="315" data-start="166">Start the day with purpose and pride as we celebrate the bright minds building the future of Effingham County!</p>\n\n<p data-end="852" data-start="317">The Effingham County Chamber Scholarship Breakfast brings together community members\, business leaders\, supporters\, and scholarship recipients to recognize the achievements of local students and adult learners pursuing secondary education. Through the Chamber Community Scholarship Program\, we award $1\,000 scholarships to graduating high school seniors and adult learners advancing their education\, including those entering healthcare\, childcare\, vocational trades\, and other fields of study.</p>\n\n<p data-end="1181" data-start="854">Join us for a morning of inspiration and community connection as we honor the hard work\, academic excellence\, and community engagement of our scholarship recipients. Hear their stories\, support their dreams\, and connect with fellow Chamber members who are investing in the region&rsquo\;s future.</p>\n\n<p data-end="1889" data-start="1764">Together we invest in education\, community\, and a stronger future for Effingham County.</p>\n\n<p>Learn more about the Chamber Scholarship Program <a href="https://effinghamcountychamber.com/chamber-scholarship/" rel="noopener" target="_blank">here</a>.</p>\n</div>\n&nbsp\;<br />\n<strong><em><u><span style="color:#242424\;"><span style="font-size:8.5pt\;">Photo &amp\; Video Disclaimer</span></span></u></em></strong><br />\n<em><span style="color:#242424\;"><span style="font-size:8.5pt\;">Effingham County Chamber (Chamber) reserves the right to use any photograph/video taken at any event sponsored by the Chamber\, without the expressed written permission of those included within the photograph/video. The Chamber may use the photograph/video in publications or other media material produced\, used\, or contracted by the Chamber\, including but not limited to brochures\, invitations\, books\, newspapers\, magazines\, television\, websites\, etc. If you do not wish to be photographed/video\, please inform the Chamber.</span></span></em><br />\n&nbsp\;<br />\n<em><span style="color:#242424\;"><span style="font-size:8.5pt\;">Any person or organization not affiliated with Chamber may not use\, copy\, alter\, or modify Chamber photographs\, graphics\, videography\, or other similar reproductions and recordings without the advance written permission of an authorized designee from Chamber.</span></span></em></div>\n</div>\n
LOCATION:Holiday Inn Effingham 1301 Avenue of Mid America\, Effingham
UID:e.1548.11368
SEQUENCE:3
DTSTAMP:20260423T135001Z
URL:http://business.effinghamcountychamber.com/events/details/chamber-scholarship-breakfast-2026-11368
END:VEVENT

END:VCALENDAR
