BEGIN:VCALENDAR
VERSION:2.0
PRODID:-//ChamberMaster//Event Calendar 2.0//EN
METHOD:PUBLISH
X-PUBLISHED-TTL:P3D
REFRESH-INTERVAL:P3D
CALSCALE:GREGORIAN
BEGIN:VEVENT
DTSTART;VALUE=DATE:20170102
DTEND;VALUE=DATE:20170103
TRANSP:TRANSPARENT
X-MICROSOFT-CDO-ALLDAYEVENT:TRUE
SUMMARY:Chamber Office Closed
DESCRIPTION:The Chamber office will be closed for the New Year's.\n\n\n\nHappy New Year from the Chamber Board of Directors & Staff!
X-ALT-DESC;FMTTYPE=text/html:<span style="font-size:20px\;"><strong>The Chamber office will be closed for the New Year&#39\;s.<br />\n<br />\nHappy New Year from the Chamber Board of Directors &amp\; Staff!</strong></span>
LOCATION:Chamber office 903 N Keller Drive\, Effingham
UID:e.1548.4723
SEQUENCE:3
DTSTAMP:20260422T045842Z
URL:http://business.effinghamcountychamber.com/events/details/chamber-office-closed-4723
END:VEVENT

END:VCALENDAR
