BEGIN:VCALENDAR
VERSION:2.0
PRODID:-//ChamberMaster//Event Calendar 2.0//EN
METHOD:PUBLISH
X-PUBLISHED-TTL:P3D
REFRESH-INTERVAL:P3D
CALSCALE:GREGORIAN
BEGIN:VEVENT
DTSTART:20261016T170000Z
DTEND:20261016T230000Z
X-MICROSOFT-CDO-ALLDAYEVENT:FALSE
SUMMARY:Chamber Fall Golf Outing 2026
DESCRIPTION:Join us Friday\, October 16 at Cardinal Golf Course for an afternoon of golf\, connection\, and just the right amount of friendly competition. With a noon shotgun start and only 24 team spots available\, it's a relaxed\, high-energy day that keeps the pace fun and the conversations flowing.\n\nThis outing is all about getting outside the office\, strengthening relationships\, and enjoying time with fellow Chamber members on the course.\n\nInterested in putting your business front and center during the event? Sponsorship opportunities are still available and offer a great way to support the Chamber while engaging directly with local professionals.\n\nWe'll see you on the greens. Let's make it a great day.\n\nContests:\n\nHole-in-One | $10k cash\n\nSkills | longest drive\, longest putt & closest to the pin (men & women)\n\nFront 9 Low\n\nBack 9 Low\n\nHighest Score\n\nTotal Low Gross Team\n\n*low gross team cannot win front or back 9 low score\n\n\n\nSponsorships:\n\nRange from a $2\,000 Presenting Sponsor to a $100 Golf Sign and all in between. \n\nAll sponsorships include | lunch for two\, sponsor recognition\, opportunity to network on the course & other benefits listed based on sponsorship option
X-ALT-DESC;FMTTYPE=text/html:<p data-end="334" data-start="48">Join us Friday\, October 16 at Cardinal Golf Course for an afternoon of golf\, connection\, and just the right amount of friendly competition. With a noon shotgun start and only 24 team spots available\, it&rsquo\;s a relaxed\, high-energy day that keeps the pace fun and the conversations flowing.</p>\n\n<p data-end="478" data-start="336">This outing is all about getting outside the office\, strengthening relationships\, and enjoying time with fellow Chamber members on the course.</p>\n\n<p data-end="691" data-start="480">Interested in putting your business front and center during the event? Sponsorship opportunities are still available and offer a great way to support the Chamber while engaging directly with local professionals.</p>\n\n<p data-end="750" data-is-last-node="" data-is-only-node="" data-start="693">We&rsquo\;ll see you on the greens. Let&rsquo\;s make it a great day.</p>\n\n<p><strong>Contests:</strong><br />\nHole-in-One | $10k cash<br />\nSkills | longest drive\, longest putt &amp\; closest to the pin (men &amp\; women)<br />\nFront 9 Low<br />\nBack 9 Low<br />\nHighest Score<br />\nTotal Low Gross Team<br />\n*<em>low gross team cannot win front or back 9 low score</em><br />\n<br />\n<strong>Sponsorships:</strong><br />\nRange from a $2\,000 Presenting Sponsor to a $100 Golf Sign and all in between.&nbsp\;<br />\n<em>All sponsorships include | lunch for two\, sponsor recognition\, opportunity to network on the course &amp\; other benefits listed based on sponsorship option</em></p>\n
LOCATION:Cardinal Golf Course
UID:e.1548.11372
SEQUENCE:3
DTSTAMP:20260423T230236Z
URL:http://business.effinghamcountychamber.com/events/details/chamber-fall-golf-outing-2026-11372
END:VEVENT

END:VCALENDAR
