BEGIN:VCALENDAR
VERSION:2.0
PRODID:-//ChamberMaster//Event Calendar 2.0//EN
METHOD:PUBLISH
X-PUBLISHED-TTL:P3D
REFRESH-INTERVAL:P3D
CALSCALE:GREGORIAN
BEGIN:VEVENT
DTSTART:20251209T174500Z
DTEND:20251209T190000Z
X-MICROSOFT-CDO-ALLDAYEVENT:FALSE
SUMMARY:Chamber Board of Directors Meeting
DESCRIPTION:Chamber Board Meeting
X-ALT-DESC;FMTTYPE=text/html:<span style="font-family:arial\,sans-serif\;"><span style="font-size:12.0pt\;">Chamber Board Meeting</span></span>
LOCATION:The Firefly Grill 1810 Ave of Mid-America Effingham\, IL 62401
UID:e.1548.11114
SEQUENCE:3
DTSTAMP:20260423T230500Z
URL:http://business.effinghamcountychamber.com/events/details/chamber-board-of-directors-meeting-11114
END:VEVENT

END:VCALENDAR
