BEGIN:VCALENDAR
VERSION:2.0
PRODID:-//ChamberMaster//Event Calendar 2.0//EN
METHOD:PUBLISH
X-PUBLISHED-TTL:P3D
REFRESH-INTERVAL:P3D
CALSCALE:GREGORIAN
BEGIN:VEVENT
DTSTART:20261208T174500Z
DTEND:20261208T190000Z
X-MICROSOFT-CDO-ALLDAYEVENT:FALSE
SUMMARY:Chamber Board Meeting
DESCRIPTION:Chamber Board Meeting
X-ALT-DESC;FMTTYPE=text/html:<span style="font-family:arial\,sans-serif\;">Chamber Board Meeting</span><br />\n&nbsp\;
LOCATION:The Firefly Grill 1810 Avenue of Mid-America Effingham\, IL 62401
UID:e.1548.11255
SEQUENCE:3
DTSTAMP:20260424T021239Z
URL:http://business.effinghamcountychamber.com/events/details/chamber-board-meeting-11255
END:VEVENT

END:VCALENDAR
