BEGIN:VCALENDAR
VERSION:2.0
PRODID:-//ChamberMaster//Event Calendar 2.0//EN
METHOD:PUBLISH
X-PUBLISHED-TTL:P3D
REFRESH-INTERVAL:P3D
CALSCALE:GREGORIAN
BEGIN:VEVENT
DTSTART:20170426T123000Z
DTEND:20170426T190000Z
X-MICROSOFT-CDO-ALLDAYEVENT:FALSE
SUMMARY:Career Fair 2017-A Talent Upload Event
DESCRIPTION:Career Fair 2017 - A Talent Upload Event!\n\n\n\nCareer Fair 2017 provides an opportunity for talented individuals to meet face to face with local employers who are recruiting for open positions now!.\n\nBring your resumes!  Resume Assistance will be available\, and refreshments will be provided. See you there!
X-ALT-DESC;FMTTYPE=text/html:<span style="font-size:18px\;"><span style="font-family:comic sans ms\;"><em><strong>Career Fair 2017 - A Talent Upload Event!</strong></em></span></span><br />\n<br />\nCareer Fair 2017 provides an opportunity for talented individuals to meet face to face with local employers who are recruiting for open positions now!.<br />\nBring your resumes! &nbsp\;Resume Assistance will be available\, and refreshments will be provided. See you there!&nbsp\;
LOCATION:Effingham Performance Center 1325 Outer Belt West Effingham\, Illinois 62401
UID:e.1548.5012
SEQUENCE:3
DTSTAMP:20260421T220236Z
URL:http://business.effinghamcountychamber.com/events/details/career-fair-2017-a-talent-upload-event-5012
END:VEVENT

END:VCALENDAR
