BEGIN:VCALENDAR
VERSION:2.0
PRODID:-//ChamberMaster//Event Calendar 2.0//EN
METHOD:PUBLISH
X-PUBLISHED-TTL:P3D
REFRESH-INTERVAL:P3D
CALSCALE:GREGORIAN
BEGIN:VEVENT
DTSTART:20170407T230000Z
DTEND:20170408T010000Z
X-MICROSOFT-CDO-ALLDAYEVENT:FALSE
SUMMARY:Bowl for Kids' Sake
DESCRIPTION:
X-ALT-DESC;FMTTYPE=text/html:
LOCATION:Pagel Silver Dollar Lanes
UID:e.1548.5010
SEQUENCE:3
DTSTAMP:20260424T003854Z
URL:http://business.effinghamcountychamber.com/events/details/bowl-for-kids-sake-04-07-2017-5010
END:VEVENT

END:VCALENDAR
