BEGIN:VCALENDAR
VERSION:2.0
PRODID:-//ChamberMaster//Event Calendar 2.0//EN
METHOD:PUBLISH
X-PUBLISHED-TTL:P3D
REFRESH-INTERVAL:P3D
CALSCALE:GREGORIAN
BEGIN:VEVENT
DTSTART:20170330T230000Z
DTEND:20170331T010000Z
X-MICROSOFT-CDO-ALLDAYEVENT:FALSE
SUMMARY:Bowl for Kids' Sake
DESCRIPTION:
X-ALT-DESC;FMTTYPE=text/html:
LOCATION:K-Bowl
UID:e.1548.5007
SEQUENCE:3
DTSTAMP:20260423T063648Z
URL:http://business.effinghamcountychamber.com/events/details/bowl-for-kids-sake-03-30-2017-5007
END:VEVENT

END:VCALENDAR
