BEGIN:VCALENDAR
VERSION:2.0
PRODID:-//ChamberMaster//Event Calendar 2.0//EN
METHOD:PUBLISH
X-PUBLISHED-TTL:P3D
REFRESH-INTERVAL:P3D
CALSCALE:GREGORIAN
BEGIN:VEVENT
DTSTART:20170318T140000Z
DTEND:20170318T190000Z
X-MICROSOFT-CDO-ALLDAYEVENT:FALSE
SUMMARY:Book Sale
DESCRIPTION:Join us for a one day Book Sale\, Saturday\, March 18 from 9 to 2 p.m. in library's basement.
X-ALT-DESC;FMTTYPE=text/html:Join us for a one day Book Sale\, Saturday\, March 18 from 9 to 2 p.m. in library&#39\;s basement.
LOCATION:Effingham Public Library - Basement
UID:e.1548.5018
SEQUENCE:3
DTSTAMP:20260422T150359Z
URL:http://business.effinghamcountychamber.com/events/details/book-sale-5018
END:VEVENT

END:VCALENDAR
