BEGIN:VCALENDAR
VERSION:2.0
PRODID:-//ChamberMaster//Event Calendar 2.0//EN
METHOD:PUBLISH
X-PUBLISHED-TTL:P3D
REFRESH-INTERVAL:P3D
CALSCALE:GREGORIAN
BEGIN:VEVENT
DTSTART:20260909T120000Z
DTEND:20260909T140000Z
X-MICROSOFT-CDO-ALLDAYEVENT:FALSE
SUMMARY:Better Your Business Roundtable - September 2026
DESCRIPTION:Better Your Business Roundtable: Marketing that Works\n\nMarketing can feel overwhelming. New platforms\, changing algorithms\, limited budgets   and still the pressure to produce results.\n\nThis roundtable is designed for business owners and marketing professionals who want to cut through the noise and focus on what actually drives engagement\, leads\, and revenue.\n\nParticipants will explore practical strategies\, messaging clarity\, brand consistency\, and how to align marketing efforts with real business goals. The conversation will also cover common mistakes\, measuring effectiveness\, and how to make smarter decisions with your time and budget.\n\nDesigned as an interactive\, peer-driven discussion\, this session encourages honest insight\, idea-sharing\, and collaboration among local businesses navigating similar challenges.\n\nWhether you're refining your strategy or rethinking your approach altogether\, this roundtable will provide practical takeaways and fresh perspective to help your marketing efforts work harder for your business.\n\n2026 Roundtable Schedule & Topics:\n\nNovember 11 | Hiring\, Firing & Rewarding Employees / Workforce Development @ Maroon Spoon\n\n\n \n\nPhoto & Video Disclaimer\n\nEffingham County Chamber (Chamber) reserves the right to use any photograph/video taken at any event sponsored by the Chamber\, without the expressed written permission of those included within the photograph/video. The Chamber may use the photograph/video in publications or other media material produced\, used\, or contracted by the Chamber\, including but not limited to brochures\, invitations\, books\, newspapers\, magazines\, television\, websites\, etc. If you do not wish to be photographed/video\, please inform the Chamber.\n\n \n\nAny person or organization not affiliated with Chamber may not use\, copy\, alter\, or modify Chamber photographs\, graphics\, videography\, or other similar reproductions and recordings without the advance written permission of an authorized designee from Chamber.
X-ALT-DESC;FMTTYPE=text/html:<p data-end="277" data-start="185"><strong>Better Your Business Roundtable: Marketing that Works</strong></p>\n\n<p data-end="368" data-start="239">Marketing can feel overwhelming. New platforms\, changing algorithms\, limited budgets &mdash\; and still the pressure to produce results.</p>\n\n<p data-end="545" data-start="370">This roundtable is designed for business owners and marketing professionals who want to cut through the noise and focus on what actually drives engagement\, leads\, and revenue.</p>\n\n<p data-end="829" data-start="547">Participants will explore practical strategies\, messaging clarity\, brand consistency\, and how to align marketing efforts with real business goals. The conversation will also cover common mistakes\, measuring effectiveness\, and how to make smarter decisions with your time and budget.</p>\n\n<p data-end="1008" data-start="831">Designed as an interactive\, peer-driven discussion\, this session encourages honest insight\, idea-sharing\, and collaboration among local businesses navigating similar challenges.</p>\n\n<p data-end="1220" data-start="1010">Whether you&rsquo\;re refining your strategy or rethinking your approach altogether\, this roundtable will provide practical takeaways and fresh perspective to help your marketing efforts work harder for your business.</p>\n\n<p data-end="1041" data-start="1012"><strong data-end="1041" data-start="1012">2026 Roundtable Schedule &amp\; Topics:</strong><br />\nNovember 11&nbsp\;| Hiring\, Firing &amp\; Rewarding Employees / Workforce Development @ Maroon Spoon</p>\n<br />\n&nbsp\;<br />\n<strong><em><u><span style="color:#242424\;"><span style="font-size:8.5pt\;">Photo &amp\; Video Disclaimer</span></span></u></em></strong><br />\n<em><span style="color:#242424\;"><span style="font-size:8.5pt\;">Effingham County Chamber (Chamber) reserves the right to use any photograph/video taken at any event sponsored by the Chamber\, without the expressed written permission of those included within the photograph/video. The Chamber may use the photograph/video in publications or other media material produced\, used\, or contracted by the Chamber\, including but not limited to brochures\, invitations\, books\, newspapers\, magazines\, television\, websites\, etc. If you do not wish to be photographed/video\, please inform the Chamber.</span></span></em><br />\n&nbsp\;<br />\n<em><span style="color:#242424\;"><span style="font-size:8.5pt\;">Any person or organization not affiliated with Chamber may not use\, copy\, alter\, or modify Chamber photographs\, graphics\, videography\, or other similar reproductions and recordings without the advance written permission of an authorized designee from Chamber.</span></span></em><br />\n&nbsp\;<br />\n&nbsp\;
LOCATION:Iron Horse Restaurant 101 S Merchant\, Effingham
UID:e.1548.11332
SEQUENCE:3
DTSTAMP:20260423T213212Z
URL:http://business.effinghamcountychamber.com/events/details/better-your-business-roundtable-september-2026-11332
END:VEVENT

END:VCALENDAR
