BEGIN:VCALENDAR
VERSION:2.0
PRODID:-//ChamberMaster//Event Calendar 2.0//EN
METHOD:PUBLISH
X-PUBLISHED-TTL:P3D
REFRESH-INTERVAL:P3D
CALSCALE:GREGORIAN
BEGIN:VEVENT
DTSTART:20260304T130000Z
DTEND:20260304T150000Z
X-MICROSOFT-CDO-ALLDAYEVENT:FALSE
SUMMARY:Better Your Business Roundtable - March 2026
DESCRIPTION:Better Your Business: Join the Roundtable   where ideas grow & businesses strengthen\n\nBetter Your Business is a new Chamber event series designed for members who want more than surface-level networking. These roundtable-style gatherings bring Chamber professionals together for focused\, peer-driven conversations around timely business topics that matter right now.\n\nEach session centers on a specific theme\, creating space to share challenges\, exchange ideas\, learn from one another\, and walk away with practical takeaways you can put to work immediately. You'll still make meaningful connections   just with more intention and depth.\n\nWhether you're refining operations\, strengthening your marketing\, navigating workforce issues\, or growing a new venture\, Better Your Business gives you a seat at the table. Come ready to participate\, collaborate\, and strengthen your business alongside other Chamber members who value growth through conversation.\n\n2026 Roundtable Schedule & Topics:\n\nMarch 4 | Better Your Business Roundtable:  Building Your Basics @ Discovery Christian School\n\nApril 1 | Better Your Business Roundtable:  From P & L to Profit  @ Barn & Bottle Winery\, Altamont\n\nAugust 19 | Better Your Business Roundtable:  Nonprofit Strategy Session @ Community Support Systems\, Teutopolis\n\nSeptember 9 | Better Your Business Roundtable:  Marketing that Works @ Iron Horse Restaurant\n\nNovember 11 | Better Your Business Roundtable:  People\, Policies & Protection @ Maroon Spoon\, Dieterich\n \n\nPhoto & Video Disclaimer\n\nEffingham County Chamber (Chamber) reserves the right to use any photograph/video taken at any event sponsored by the Chamber\, without the expressed written permission of those included within the photograph/video. The Chamber may use the photograph/video in publications or other media material produced\, used\, or contracted by the Chamber\, including but not limited to brochures\, invitations\, books\, newspapers\, magazines\, television\, websites\, etc. If you do not wish to be photographed/video\, please inform the Chamber.\n\n \n\nAny person or organization not affiliated with Chamber may not use\, copy\, alter\, or modify Chamber photographs\, graphics\, videography\, or other similar reproductions and recordings without the advance written permission of an authorized designee from Chamber.
X-ALT-DESC;FMTTYPE=text/html:<p data-end="277" data-start="185"><strong data-end="277" data-start="189">Better Your Business: Join the Roundtable &mdash\; where ideas grow &amp\; businesses strengthen</strong></p>\n\n<p data-end="562" data-start="279">Better Your Business is a new Chamber event series designed for members who want more than surface-level networking. These roundtable-style gatherings bring Chamber professionals together for focused\, peer-driven conversations around timely business topics that matter right now.</p>\n\n<p data-end="832" data-start="564">Each session centers on a specific theme\, creating space to share challenges\, exchange ideas\, learn from one another\, and walk away with practical takeaways you can put to work immediately. You&rsquo\;ll still make meaningful connections &mdash\; just with more intention and depth.</p>\n\n<p data-end="1010" data-start="834">Whether you&rsquo\;re refining operations\, strengthening your marketing\, navigating workforce issues\, or growing a new venture\, Better Your Business gives you a seat at the table. Come ready to participate\, collaborate\, and strengthen your business alongside other Chamber members who value growth through conversation.</p>\n\n<p data-end="1041" data-start="1012"><strong data-end="1041" data-start="1012">2026 Roundtable Schedule &amp\; Topics:</strong><br />\nMarch 4 | <span data-teams="true"><i>Better Your Business Roundtable: &nbsp\;Building Your Basics&nbsp\;</i></span>@ Discovery Christian School<br />\nApril 1&nbsp\;| <span data-teams="true"><i>Better Your Business Roundtable: &nbsp\;From P &amp\; L to Profit&nbsp\;</i></span> @ Barn &amp\; Bottle Winery\, Altamont<br />\nAugust 19 | <span data-teams="true"><i>Better Your Business Roundtable: &nbsp\;Nonprofit Strategy Session&nbsp\;</i></span>@ <span class="hover:entity-accent entity-underline inline cursor-pointer align-baseline">Community Support Systems\, Teutopolis</span><br />\nSeptember 9&nbsp\;| <span data-teams="true"><i>Better Your Business Roundtable: &nbsp\;Marketing that Works</i></span> @ Iron Horse Restaurant<br />\nNovember 11&nbsp\;| <span data-teams="true"><i>Better Your Business Roundtable: &nbsp\;People\, Policies &amp\; Protection</i></span>&nbsp\;@ Maroon Spoon\, Dieterich</p>\n&nbsp\;<br />\n<strong><em><u><span style="color:#242424\;"><span style="font-size:8.5pt\;">Photo &amp\; Video Disclaimer</span></span></u></em></strong><br />\n<em><span style="color:#242424\;"><span style="font-size:8.5pt\;">Effingham County Chamber (Chamber) reserves the right to use any photograph/video taken at any event sponsored by the Chamber\, without the expressed written permission of those included within the photograph/video. The Chamber may use the photograph/video in publications or other media material produced\, used\, or contracted by the Chamber\, including but not limited to brochures\, invitations\, books\, newspapers\, magazines\, television\, websites\, etc. If you do not wish to be photographed/video\, please inform the Chamber.</span></span></em><br />\n&nbsp\;<br />\n<em><span style="color:#242424\;"><span style="font-size:8.5pt\;">Any person or organization not affiliated with Chamber may not use\, copy\, alter\, or modify Chamber photographs\, graphics\, videography\, or other similar reproductions and recordings without the advance written permission of an authorized designee from Chamber.</span></span></em><br />\n&nbsp\;<br />\n&nbsp\;
LOCATION:Discovery Christian School 2511 S Veterans Drive\, Effingham
UID:e.1548.11326
SEQUENCE:3
DTSTAMP:20260423T183356Z
URL:http://business.effinghamcountychamber.com/events/details/better-your-business-roundtable-january-2026-11326
END:VEVENT

END:VCALENDAR
