BEGIN:VCALENDAR
VERSION:2.0
PRODID:-//ChamberMaster//Event Calendar 2.0//EN
METHOD:PUBLISH
X-PUBLISHED-TTL:P3D
REFRESH-INTERVAL:P3D
CALSCALE:GREGORIAN
BEGIN:VEVENT
DTSTART:20260819T120000Z
DTEND:20260819T140000Z
X-MICROSOFT-CDO-ALLDAYEVENT:FALSE
SUMMARY:Better Your Business Roundtable - August 2026
DESCRIPTION:Better Your Business Roundtable: Nonprofit Strategy Session\n\n\n\nLeading a nonprofit comes with a unique set of opportunities and challenges. This roundtable is designed for nonprofit leaders\, board members\, and team members who want to strengthen their organization's impact through thoughtful strategy and shared insight.\n\nParticipants will explore key topics such as sustainable funding\, board engagement\, community partnerships\, program effectiveness\, and long-term planning. The conversation will focus on practical solutions\, common hurdles\, and strategies that help mission-driven organizations operate with clarity and confidence.\n\nDesigned as an open\, peer-driven discussion\, this session creates space for honest dialogue\, idea-sharing\, and collaboration among nonprofits serving our region.\n\nWhether you're refining your strategic direction\, navigating growth\, or working through operational challenges\, this roundtable offers meaningful connection and actionable takeaways to help move your mission forward.\n\n2026 Roundtable Schedule & Topics:\n\nSeptember 9 | Marketing Roundtable @ Iron Horse Restaurant\n\nNovember 11 | Hiring\, Firing & Rewarding Employees / Workforce Development @ Maroon Spoon\n\n\n \n\nPhoto & Video Disclaimer\n\nEffingham County Chamber (Chamber) reserves the right to use any photograph/video taken at any event sponsored by the Chamber\, without the expressed written permission of those included within the photograph/video. The Chamber may use the photograph/video in publications or other media material produced\, used\, or contracted by the Chamber\, including but not limited to brochures\, invitations\, books\, newspapers\, magazines\, television\, websites\, etc. If you do not wish to be photographed/video\, please inform the Chamber.\n\n \n\nAny person or organization not affiliated with Chamber may not use\, copy\, alter\, or modify Chamber photographs\, graphics\, videography\, or other similar reproductions and recordings without the advance written permission of an authorized designee from Chamber.
X-ALT-DESC;FMTTYPE=text/html:<p data-end="496" data-start="238"><strong>Better Your Business Roundtable: Nonprofit Strategy Session</strong><br />\n<br />\nLeading a nonprofit comes with a unique set of opportunities and challenges. This roundtable is designed for nonprofit leaders\, board members\, and team members who want to strengthen their organization&rsquo\;s impact through thoughtful strategy and shared insight.</p>\n\n<p data-end="811" data-start="498">Participants will explore key topics such as sustainable funding\, board engagement\, community partnerships\, program effectiveness\, and long-term planning. The conversation will focus on practical solutions\, common hurdles\, and strategies that help mission-driven organizations operate with clarity and confidence.</p>\n\n<p data-end="974" data-start="813">Designed as an open\, peer-driven discussion\, this session creates space for honest dialogue\, idea-sharing\, and collaboration among nonprofits serving our region.</p>\n\n<p data-end="1192" data-start="976">Whether you&rsquo\;re refining your strategic direction\, navigating growth\, or working through operational challenges\, this roundtable offers meaningful connection and actionable takeaways to help move your mission forward.</p>\n\n<p data-end="1041" data-start="1012"><strong data-end="1041" data-start="1012">2026 Roundtable Schedule &amp\; Topics:</strong><br />\nSeptember 9&nbsp\;| Marketing Roundtable @ Iron Horse Restaurant<br />\nNovember 11&nbsp\;| Hiring\, Firing &amp\; Rewarding Employees / Workforce Development @ Maroon Spoon</p>\n<br />\n&nbsp\;<br />\n<strong><em><u><span style="color:#242424\;"><span style="font-size:8.5pt\;">Photo &amp\; Video Disclaimer</span></span></u></em></strong><br />\n<em><span style="color:#242424\;"><span style="font-size:8.5pt\;">Effingham County Chamber (Chamber) reserves the right to use any photograph/video taken at any event sponsored by the Chamber\, without the expressed written permission of those included within the photograph/video. The Chamber may use the photograph/video in publications or other media material produced\, used\, or contracted by the Chamber\, including but not limited to brochures\, invitations\, books\, newspapers\, magazines\, television\, websites\, etc. If you do not wish to be photographed/video\, please inform the Chamber.</span></span></em><br />\n&nbsp\;<br />\n<em><span style="color:#242424\;"><span style="font-size:8.5pt\;">Any person or organization not affiliated with Chamber may not use\, copy\, alter\, or modify Chamber photographs\, graphics\, videography\, or other similar reproductions and recordings without the advance written permission of an authorized designee from Chamber.</span></span></em><br />\n&nbsp\;<br />\n&nbsp\;
LOCATION:Community Support Systems 618 W Main\, Teutopolis
UID:e.1548.11331
SEQUENCE:3
DTSTAMP:20260423T201436Z
URL:http://business.effinghamcountychamber.com/events/details/better-your-business-roundtable-august-2026-11331
END:VEVENT

END:VCALENDAR
