BEGIN:VCALENDAR
VERSION:2.0
PRODID:-//ChamberMaster//Event Calendar 2.0//EN
METHOD:PUBLISH
X-PUBLISHED-TTL:P3D
REFRESH-INTERVAL:P3D
CALSCALE:GREGORIAN
BEGIN:VEVENT
DTSTART:20261029T220000Z
DTEND:20261030T000000Z
X-MICROSOFT-CDO-ALLDAYEVENT:FALSE
SUMMARY:BAH-Wright's Furniture
DESCRIPTION:Business After Hours
X-ALT-DESC;FMTTYPE=text/html:Business After Hours
LOCATION:Wright's Furniture
UID:e.1548.11320
SEQUENCE:3
DTSTAMP:20260423T230405Z
URL:http://business.effinghamcountychamber.com/events/details/bah-wright-s-furniture-11320
END:VEVENT

END:VCALENDAR
