BEGIN:VCALENDAR
VERSION:2.0
PRODID:-//ChamberMaster//Event Calendar 2.0//EN
METHOD:PUBLISH
X-PUBLISHED-TTL:P3D
REFRESH-INTERVAL:P3D
CALSCALE:GREGORIAN
BEGIN:VEVENT
DTSTART:20170503T000000Z
DTEND:20170503T020000Z
X-MICROSOFT-CDO-ALLDAYEVENT:FALSE
SUMMARY:Alzheimer's Awareness
DESCRIPTION:Local unit's of University of the Illinois Home Extension are sponsoring this event. This diagnosis affects many families. The program speakers are from the Willowbrook of Effingham. Open to the public.
X-ALT-DESC;FMTTYPE=text/html:Local unit&#39\;s of University of the Illinois Home Extension are sponsoring this event. This diagnosis affects many families. The program speakers are from the Willowbrook of Effingham. Open to the public.
LOCATION:University of Illinois Home Extension Office 1209 Wenthe Drive
UID:e.1548.5073
SEQUENCE:3
DTSTAMP:20260423T082448Z
URL:http://business.effinghamcountychamber.com/events/details/alzheimer-s-awareness-5073
END:VEVENT

END:VCALENDAR
