BEGIN:VCALENDAR
VERSION:2.0
PRODID:-//ChamberMaster//Event Calendar 2.0//EN
METHOD:PUBLISH
X-PUBLISHED-TTL:P3D
REFRESH-INTERVAL:P3D
CALSCALE:GREGORIAN
BEGIN:VEVENT
DTSTART;VALUE=DATE:20170406
DTEND;VALUE=DATE:20170408
TRANSP:TRANSPARENT
X-MICROSOFT-CDO-ALLDAYEVENT:TRUE
SUMMARY:8th Grade Career Conference
DESCRIPTION:Lake Land College & Eastern Illinois Education for Employment System are hosting the 25th Annual 8th Grade Career Conference on Thursday\, April 6 & Friday\, April 7\, 2017. More than 2\,000 8th Grade students from area schools will attend the event. Breakdown is a morning & afternoon session each day.
X-ALT-DESC;FMTTYPE=text/html:Lake Land College &amp\; Eastern Illinois Education for Employment System are hosting the 25th Annual 8th Grade Career Conference on Thursday\, April 6 &amp\; Friday\, April 7\, 2017. More than 2\,000 8th Grade students from area schools will attend the event. Breakdown is a morning &amp\; afternoon session each day.
LOCATION:Lake Land College Field House\, Mattoon\, IL
UID:e.1548.5036
SEQUENCE:3
DTSTAMP:20260421T202021Z
URL:http://business.effinghamcountychamber.com/events/details/8th-grade-career-conference-5036
END:VEVENT

END:VCALENDAR
