BEGIN:VCALENDAR
VERSION:2.0
PRODID:-//ChamberMaster//Event Calendar 2.0//EN
METHOD:PUBLISH
X-PUBLISHED-TTL:P3D
REFRESH-INTERVAL:P3D
CALSCALE:GREGORIAN
BEGIN:VEVENT
DTSTART:20170729T130000Z
DTEND:20170729T220000Z
X-MICROSOFT-CDO-ALLDAYEVENT:FALSE
SUMMARY:2017 EffingHAM-JAM
DESCRIPTION:Enjoy an Evening of BBQ Tasting\, Music and More at the 2017 EffingHAM-JAM!\n\n\n\nFor additional information please visit our website\n\n\n\n\n\nLocal "Backyard BBQ" Competition at the Hometown Throwdown!  \n\nGather your family and/or friends to showcase your BBQ talents to the community in this fun\, local competition.  Sign Up Now!  \n\n\n\nWine & Beer Tasting - Live Music & More\n\n\n\nJudging application link\n\nClick Here\n\n\n\nKCBS Competitor application link\n\nClick Here
X-ALT-DESC;FMTTYPE=text/html:<span style="font-size: 24px\;"><span style="font-family: tahoma\;"><span style="font-family: arial\;"><strong>Enjoy an Evening of BBQ Tasting\, Music and More at the 2017&nbsp\;EffingHAM-JAM!<br />\n<br />\nFor additional information please visit our </strong><a href="http://www.effinghamjam.com/"><strong><font color="#0066cc">website</font></strong></a></span></span></span><br />\n<br />\n<br />\n<strong><span style="font-size: 24px\;"><span style="font-family: tahoma\;"><span style="font-family: arial\;">Local &quot\;Backyard BBQ&quot\; Competition at the Hometown Throwdown! &nbsp\;<br />\nGather your family and/or friends to showcase your BBQ talents to the community in this fun\, local competition. &nbsp\;<a href="https://chambermaster.blob.core.windows.net/userfiles/UserFiles/chambers/1548/File/HometownThrowdownApplication2016.docx"><font color="#0066cc">Sign Up Now!</font></a> &nbsp\;<br />\n<br />\nWine &amp\; Beer Tasting - Live Music &amp\; More<br />\n<br />\n<span style="font-size: 14px\;">Judging&nbsp\;application link</span></span></span></span></strong><br />\n<a href="https://chambermaster.blob.core.windows.net/userfiles/UserFiles/chambers/1548/File/JudgeApp2017.pdf"><font color="#0066cc">Click Here</font></a><br />\n<br />\n<strong>KCBS Competitor application link</strong><br />\n<a href="https://chambermaster.blob.core.windows.net/userfiles/UserFiles/chambers/1548/File/CompetitorApplication2017.pdf"><font color="#0066cc">Click Here</font></a><br />\n&nbsp\;
LOCATION:Downtown Effingham
UID:e.1548.5291
SEQUENCE:3
DTSTAMP:20260421T161546Z
URL:http://business.effinghamcountychamber.com/events/details/2017-effingham-jam-5291
END:VEVENT

END:VCALENDAR
